BEGIN:VCALENDAR
VERSION:2.0
PRODID:-//Downtown Arlington Business Association - ECPv6.15.20//NONSGML v1.0//EN
CALSCALE:GREGORIAN
METHOD:PUBLISH
X-ORIGINAL-URL:https://arlingtonwa.org
X-WR-CALDESC:Events for Downtown Arlington Business Association
REFRESH-INTERVAL;VALUE=DURATION:PT1H
X-Robots-Tag:noindex
X-PUBLISHED-TTL:PT1H
BEGIN:VTIMEZONE
TZID:America/New_York
BEGIN:DAYLIGHT
TZOFFSETFROM:-0500
TZOFFSETTO:-0400
TZNAME:EDT
DTSTART:20220313T070000
END:DAYLIGHT
BEGIN:STANDARD
TZOFFSETFROM:-0400
TZOFFSETTO:-0500
TZNAME:EST
DTSTART:20221106T060000
END:STANDARD
BEGIN:DAYLIGHT
TZOFFSETFROM:-0500
TZOFFSETTO:-0400
TZNAME:EDT
DTSTART:20230312T070000
END:DAYLIGHT
BEGIN:STANDARD
TZOFFSETFROM:-0400
TZOFFSETTO:-0500
TZNAME:EST
DTSTART:20231105T060000
END:STANDARD
BEGIN:DAYLIGHT
TZOFFSETFROM:-0500
TZOFFSETTO:-0400
TZNAME:EDT
DTSTART:20240310T070000
END:DAYLIGHT
BEGIN:STANDARD
TZOFFSETFROM:-0400
TZOFFSETTO:-0500
TZNAME:EST
DTSTART:20241103T060000
END:STANDARD
END:VTIMEZONE
BEGIN:VEVENT
DTSTART;VALUE=DATE:20230801
DTEND;VALUE=DATE:20230802
DTSTAMP:20260420T093452
CREATED:20230621T102048Z
LAST-MODIFIED:20230621T102048Z
UID:5395-1690848000-1690934399@arlingtonwa.org
SUMMARY:National night out against crime
DESCRIPTION:
URL:https://arlingtonwa.org/arlington-event/national-night-out-against-crime-3/
END:VEVENT
BEGIN:VEVENT
DTSTART;VALUE=DATE:20230722
DTEND;VALUE=DATE:20230723
DTSTAMP:20260420T093452
CREATED:20230809T085552Z
LAST-MODIFIED:20230809T085552Z
UID:2879-1689984000-1690070399@arlingtonwa.org
SUMMARY:Stilly River Lockdown
DESCRIPTION:
URL:https://arlingtonwa.org/arlington-event/stilly-river-lockdown/
CATEGORIES:Summer Concerts
ATTACH;FMTTYPE=image/webp:https://arlingtonwa.org/wp-content/uploads/2023/08/music-placeholder-concert-women.webp
END:VEVENT
BEGIN:VEVENT
DTSTART;VALUE=DATE:20230722
DTEND;VALUE=DATE:20230723
DTSTAMP:20260420T093452
CREATED:20230809T085552Z
LAST-MODIFIED:20230809T085552Z
UID:5359-1689984000-1690070399@arlingtonwa.org
SUMMARY:Stilly River Lockdown
DESCRIPTION:
URL:https://arlingtonwa.org/arlington-event/stilly-river-lockdown-2/
CATEGORIES:Summer Concerts
ATTACH;FMTTYPE=image/webp:https://arlingtonwa.org/wp-content/uploads/2023/08/music-placeholder-concert-women.webp
END:VEVENT
BEGIN:VEVENT
DTSTART;VALUE=DATE:20230722
DTEND;VALUE=DATE:20230723
DTSTAMP:20260420T093452
CREATED:20230809T085552Z
LAST-MODIFIED:20230809T085552Z
UID:5398-1689984000-1690070399@arlingtonwa.org
SUMMARY:Stilly River Lockdown
DESCRIPTION:
URL:https://arlingtonwa.org/arlington-event/stilly-river-lockdown-3/
CATEGORIES:Summer Concerts
ATTACH;FMTTYPE=image/webp:https://arlingtonwa.org/wp-content/uploads/2023/08/music-placeholder-concert-women.webp
END:VEVENT
BEGIN:VEVENT
DTSTART;VALUE=DATE:20230705
DTEND;VALUE=DATE:20230706
DTSTAMP:20260420T093452
CREATED:20230621T102004Z
LAST-MODIFIED:20230621T102004Z
UID:5393-1688515200-1688601599@arlingtonwa.org
SUMMARY:DABA Member meetings
DESCRIPTION:
URL:https://arlingtonwa.org/arlington-event/daba-member-meetings-3/
END:VEVENT
BEGIN:VEVENT
DTSTART;VALUE=DATE:20230705
DTEND;VALUE=DATE:20230706
DTSTAMP:20260420T093452
CREATED:20230621T102004Z
LAST-MODIFIED:20240515T193356Z
UID:2065-1688515200-1688601599@arlingtonwa.org
SUMMARY:DABA Member meeting
DESCRIPTION:
URL:https://arlingtonwa.org/arlington-event/daba-member-meetings/
END:VEVENT
BEGIN:VEVENT
DTSTART;VALUE=DATE:20230705
DTEND;VALUE=DATE:20230706
DTSTAMP:20260420T093452
CREATED:20230621T102004Z
LAST-MODIFIED:20240515T193408Z
UID:5354-1688515200-1688601599@arlingtonwa.org
SUMMARY:DABA Member meeting
DESCRIPTION:
URL:https://arlingtonwa.org/arlington-event/daba-member-meetings-2/
END:VEVENT
BEGIN:VEVENT
DTSTART;VALUE=DATE:20230620
DTEND;VALUE=DATE:20230621
DTSTAMP:20260420T093452
CREATED:20230621T101939Z
LAST-MODIFIED:20230621T101939Z
UID:2063-1687219200-1687305599@arlingtonwa.org
SUMMARY:DABA Board meetings
DESCRIPTION:
URL:https://arlingtonwa.org/arlington-event/daba-board-meetings/
END:VEVENT
BEGIN:VEVENT
DTSTART;VALUE=DATE:20230620
DTEND;VALUE=DATE:20230621
DTSTAMP:20260420T093452
CREATED:20230621T101939Z
LAST-MODIFIED:20230621T101939Z
UID:5353-1687219200-1687305599@arlingtonwa.org
SUMMARY:DABA Board meetings
DESCRIPTION:
URL:https://arlingtonwa.org/arlington-event/daba-board-meetings-2/
END:VEVENT
BEGIN:VEVENT
DTSTART;VALUE=DATE:20230620
DTEND;VALUE=DATE:20230621
DTSTAMP:20260420T093452
CREATED:20230621T101939Z
LAST-MODIFIED:20230621T101939Z
UID:5392-1687219200-1687305599@arlingtonwa.org
SUMMARY:DABA Board meetings
DESCRIPTION:
URL:https://arlingtonwa.org/arlington-event/daba-board-meetings-3/
END:VEVENT
BEGIN:VEVENT
DTSTART;TZID=America/New_York:20230617T080000
DTEND;TZID=America/New_York:20230622T170000
DTSTAMP:20260420T093452
CREATED:20230621T101901Z
LAST-MODIFIED:20230621T101901Z
UID:5391-1686988800-1687453200@arlingtonwa.org
SUMMARY:Summer concert series
DESCRIPTION:
URL:https://arlingtonwa.org/arlington-event/summer-concert-series-3/
CATEGORIES:Summer Concerts
END:VEVENT
BEGIN:VEVENT
DTSTART;TZID=America/New_York:20230617T080000
DTEND;TZID=America/New_York:20230622T170000
DTSTAMP:20260420T093452
CREATED:20230621T101901Z
LAST-MODIFIED:20230726T101046Z
UID:2061-1686988800-1687453200@arlingtonwa.org
SUMMARY:Summer concert series
DESCRIPTION:
URL:https://arlingtonwa.org/arlington-event/summer-concert-series/
CATEGORIES:Summer Concerts
END:VEVENT
BEGIN:VEVENT
DTSTART;TZID=America/New_York:20230617T080000
DTEND;TZID=America/New_York:20230622T170000
DTSTAMP:20260420T093452
CREATED:20230621T101901Z
LAST-MODIFIED:20230621T101901Z
UID:5352-1686988800-1687453200@arlingtonwa.org
SUMMARY:Summer concert series
DESCRIPTION:
URL:https://arlingtonwa.org/arlington-event/summer-concert-series-2/
CATEGORIES:Summer Concerts
END:VEVENT
BEGIN:VEVENT
DTSTART;VALUE=DATE:20230617
DTEND;VALUE=DATE:20230618
DTSTAMP:20260420T093452
CREATED:20230809T085743Z
LAST-MODIFIED:20230809T085759Z
UID:2882-1686960000-1687046399@arlingtonwa.org
SUMMARY:Altered 90's
DESCRIPTION:
URL:https://arlingtonwa.org/arlington-event/altered-90s/
CATEGORIES:Summer Concerts
END:VEVENT
BEGIN:VEVENT
DTSTART;VALUE=DATE:20230617
DTEND;VALUE=DATE:20230618
DTSTAMP:20260420T093452
CREATED:20230809T085743Z
LAST-MODIFIED:20230809T085743Z
UID:5360-1686960000-1687046399@arlingtonwa.org
SUMMARY:Altered 90's
DESCRIPTION:
URL:https://arlingtonwa.org/arlington-event/altered-90s-2/
CATEGORIES:Summer Concerts
END:VEVENT
BEGIN:VEVENT
DTSTART;VALUE=DATE:20230617
DTEND;VALUE=DATE:20230618
DTSTAMP:20260420T093452
CREATED:20230809T085743Z
LAST-MODIFIED:20230809T085743Z
UID:5399-1686960000-1687046399@arlingtonwa.org
SUMMARY:Altered 90's
DESCRIPTION:
URL:https://arlingtonwa.org/arlington-event/altered-90s-3/
CATEGORIES:Summer Concerts
END:VEVENT
END:VCALENDAR